BEGIN:VCALENDAR
VERSION:2.0
PRODID:spatie/icalendar-generator
DESCRIPTION:Events from Applecross Senior High School
X-WR-CALDESC:Events from Applecross Senior High School
REFRESH-INTERVAL;VALUE=DURATION:PT1440M
X-PUBLISHED-TTL:PT1440M
BEGIN:VTIMEZONE
TZID:Australia/Perth
BEGIN:STANDARD
DTSTART:20241212T132500Z
TZOFFSETFROM:+0800
TZOFFSETTO:+0800
END:STANDARD
END:VTIMEZONE
BEGIN:VTIMEZONE
TZID:UTC
BEGIN:STANDARD
DTSTART:20250728T091718Z
TZOFFSETFROM:+0000
TZOFFSETTO:+0000
END:STANDARD
END:VTIMEZONE
BEGIN:VEVENT
UID:2072-1493
DTSTAMP:20260424T091718Z
SUMMARY:Principal&amp;#8217\;s Cup &amp;#8211\; Mixed Futsal
LOCATION:
ORGANIZER;CN=Public Submitter:MAILTO:
DTSTART;TZID=Australia/Perth:20250908T132500
DTEND;TZID=Australia/Perth:20250908T135000
X-ALT-DESC;FMTTYPE=TEXT/HTML:
CATEGORIES:Year 12
URL;VALUE=URI:https://applecross.wa.edu.au/mc-events/principals-cup-mixed-f
 utsal/
METHOD:PUBLISH
END:VEVENT
END:VCALENDAR