BEGIN:VCALENDAR
VERSION:2.0
PRODID:spatie/icalendar-generator
DESCRIPTION:Events from Applecross Senior High School
X-WR-CALDESC:Events from Applecross Senior High School
REFRESH-INTERVAL;VALUE=DURATION:PT1440M
X-PUBLISHED-TTL:PT1440M
BEGIN:VTIMEZONE
TZID:Australia/Perth
BEGIN:STANDARD
DTSTART:20251030T103500Z
TZOFFSETFROM:+0800
TZOFFSETTO:+0800
END:STANDARD
END:VTIMEZONE
BEGIN:VTIMEZONE
TZID:UTC
BEGIN:STANDARD
DTSTART:20250725T100714Z
TZOFFSETFROM:+0000
TZOFFSETTO:+0000
END:STANDARD
END:VTIMEZONE
BEGIN:VEVENT
UID:6413-5415
DTSTAMP:20260421T100714Z
SUMMARY:Year 7 Assembly (Gym)
LOCATION:
ORGANIZER;CN=Public Submitter:MAILTO:
DTSTART;TZID=Australia/Perth:20260727T103500
DTEND;TZID=Australia/Perth:20260727T105500
X-ALT-DESC;FMTTYPE=TEXT/HTML:
CATEGORIES:Year 7
URL;VALUE=URI:https://applecross.wa.edu.au/mc-events/year-7-assembly-gym-22
 /
METHOD:PUBLISH
END:VEVENT
END:VCALENDAR